BEGIN:VCALENDAR
VERSION:2.0
PRODID:icalendar-ruby
CALSCALE:GREGORIAN
METHOD:PUBLISH
BEGIN:VEVENT
DTSTAMP:20260424T160709Z
UID:4425b6fa-ea1a-43ab-823c-c3428f648d97
DTSTART;VALUE=DATE:20171111
DTEND;VALUE=DATE:20171111
DESCRIPTION:Fond Du Lac BMX Club
LOCATION:307 N Hickory St  Fond Du lac WI 54935 USA
SUMMARY:Standard Single Single
URL:/site/bmx_races/349081
END:VEVENT
END:VCALENDAR
