BEGIN:VCALENDAR
VERSION:2.0
PRODID:icalendar-ruby
CALSCALE:GREGORIAN
METHOD:PUBLISH
BEGIN:VEVENT
DTSTAMP:20260425T024458Z
UID:f170d229-a672-48b3-9811-2c4b096bc5cb
DTSTART;VALUE=DATE:20170517
DTEND;VALUE=DATE:20170517
DESCRIPTION:Bend BMX
LOCATION:21690 Neff Road  Bend OR 97701 USA
SUMMARY:Race For Life Single
URL:/site/bmx_races/349043
END:VEVENT
END:VCALENDAR
