BEGIN:VCALENDAR
VERSION:2.0
PRODID:icalendar-ruby
CALSCALE:GREGORIAN
METHOD:PUBLISH
BEGIN:VEVENT
DTSTAMP:20260423T232628Z
UID:a98e0572-00a4-4645-bf6b-32312f2bdc62
DTSTART;VALUE=DATE:20170711
DTEND;VALUE=DATE:20170711
DESCRIPTION:Green Lake BMX
LOCATION:221 W South Street   Spicer MN 56288 USA
SUMMARY:Practice
URL:/site/bmx_races/348812
END:VEVENT
END:VCALENDAR
