BEGIN:VCALENDAR
VERSION:2.0
PRODID:icalendar-ruby
CALSCALE:GREGORIAN
METHOD:PUBLISH
BEGIN:VEVENT
DTSTAMP:20260425T190955Z
UID:bee1e355-3f95-4ec3-a7c8-6b934c10581e
DTSTART;VALUE=DATE:20170709
DTEND;VALUE=DATE:20170709
DESCRIPTION:Tornado Alley BMX Raceway
LOCATION:3916 S Eastern  Amarillo TX 79109 USA
SUMMARY:Standard Double Double
URL:/site/bmx_races/348164
END:VEVENT
END:VCALENDAR
