BEGIN:VCALENDAR
VERSION:2.0
PRODID:icalendar-ruby
CALSCALE:GREGORIAN
METHOD:PUBLISH
BEGIN:VEVENT
DTSTAMP:20260424T192127Z
UID:55325e85-569e-4d7c-9bba-dc01eb02b838
DTSTART;VALUE=DATE:20170819
DTEND;VALUE=DATE:20170819
DESCRIPTION:Farmer City BMX
LOCATION:12853 Royal Road  Farmer City IL 61842 USA
SUMMARY:Race For Life Single
URL:/site/bmx_races/347271
END:VEVENT
END:VCALENDAR
