BEGIN:VCALENDAR
VERSION:2.0
PRODID:icalendar-ruby
CALSCALE:GREGORIAN
METHOD:PUBLISH
BEGIN:VEVENT
DTSTAMP:20260425T142102Z
UID:67c2c298-3d66-4d27-bb1c-2886ae298d20
DTSTART;VALUE=DATE:20170711
DTEND;VALUE=DATE:20170711
DESCRIPTION:New Paltz BMX
LOCATION:1 Clearwater Rd  New Paltz NY 12561 USA
SUMMARY:Standard Single Single
URL:/site/bmx_races/346563
END:VEVENT
END:VCALENDAR
