BEGIN:VCALENDAR
VERSION:2.0
PRODID:icalendar-ruby
CALSCALE:GREGORIAN
METHOD:PUBLISH
BEGIN:VEVENT
DTSTAMP:20260425T221633Z
UID:1f62f98e-a728-44dd-846f-18e2f7a07979
DTSTART;VALUE=DATE:20170807
DTEND;VALUE=DATE:20170807
DESCRIPTION:Cactus Park BMX
LOCATION:10610 Ashwood St  Lakeside CA 92040 USA
SUMMARY:Standard Single Single
URL:/site/bmx_races/345465
END:VEVENT
END:VCALENDAR
