BEGIN:VCALENDAR
VERSION:2.0
PRODID:icalendar-ruby
CALSCALE:GREGORIAN
METHOD:PUBLISH
BEGIN:VEVENT
DTSTAMP:20260424T091941Z
UID:48c2c8ec-fb3d-41ab-9d6a-60f54ed6bb28
DTSTART;VALUE=DATE:20170306
DTEND;VALUE=DATE:20170306
DESCRIPTION:Cactus Park BMX
LOCATION:10610 Ashwood St  Lakeside CA 92040 USA
SUMMARY:Standard Single Single
URL:/site/bmx_races/345421
END:VEVENT
END:VCALENDAR
