BEGIN:VCALENDAR
VERSION:2.0
PRODID:icalendar-ruby
CALSCALE:GREGORIAN
METHOD:PUBLISH
BEGIN:VEVENT
DTSTAMP:20260424T220233Z
UID:14889628-6420-4a4c-9fdf-f10d0fb3c7ef
DTSTART;VALUE=DATE:20170413
DTEND;VALUE=DATE:20170413
DESCRIPTION:Bellflower BMX
LOCATION:9030 Somerset Blvd  Bellflower CA 90706 USA
SUMMARY:Standard Single Single
URL:/site/bmx_races/345367
END:VEVENT
END:VCALENDAR
