BEGIN:VCALENDAR
VERSION:2.0
PRODID:icalendar-ruby
CALSCALE:GREGORIAN
METHOD:PUBLISH
BEGIN:VEVENT
DTSTAMP:20260425T003835Z
UID:55691346-d9fe-4ad0-8b02-a7e78882adf2
DTSTART;VALUE=DATE:20170215
DTEND;VALUE=DATE:20170215
DESCRIPTION:Santa Maria BMX
LOCATION:4040 Highway 101  Santa Maria CA 93455 USA
SUMMARY:Standard Single Single
URL:/site/bmx_races/344948
END:VEVENT
END:VCALENDAR
