BEGIN:VCALENDAR
VERSION:2.0
PRODID:icalendar-ruby
CALSCALE:GREGORIAN
METHOD:PUBLISH
BEGIN:VEVENT
DTSTAMP:20260425T024538Z
UID:b39cb69e-6808-4f29-b921-48b825945ef1
DTSTART;VALUE=DATE:20170824
DTEND;VALUE=DATE:20170824
DESCRIPTION:South Lake Tahoe BMX
LOCATION:1201 Al Tahoe Blvd.  South Lake Tahoe CA 96150 USA
SUMMARY:Standard Single Single
URL:/site/bmx_races/344915
END:VEVENT
END:VCALENDAR
