BEGIN:VCALENDAR
VERSION:2.0
PRODID:icalendar-ruby
CALSCALE:GREGORIAN
METHOD:PUBLISH
BEGIN:VEVENT
DTSTAMP:20260425T024817Z
UID:1e9f171f-664e-411e-b731-a61d8a1be102
DTSTART;VALUE=DATE:20170810
DTEND;VALUE=DATE:20170810
DESCRIPTION:South Lake Tahoe BMX
LOCATION:1201 Al Tahoe Blvd.  South Lake Tahoe CA 96150 USA
SUMMARY:Standard Single Single
URL:/site/bmx_races/344913
END:VEVENT
END:VCALENDAR
