BEGIN:VCALENDAR
VERSION:2.0
PRODID:icalendar-ruby
CALSCALE:GREGORIAN
METHOD:PUBLISH
BEGIN:VEVENT
DTSTAMP:20260424T084344Z
UID:721c7620-4d12-4cdd-accc-1763457328f1
DTSTART;VALUE=DATE:20170727
DTEND;VALUE=DATE:20170727
DESCRIPTION:Southern Maryland BMX
LOCATION:26600 Budds Creek Rd  Mechanicsville MD 20659 USA
SUMMARY:Standard Single Single
URL:/site/bmx_races/344717
END:VEVENT
END:VCALENDAR
