BEGIN:VCALENDAR
VERSION:2.0
PRODID:icalendar-ruby
CALSCALE:GREGORIAN
METHOD:PUBLISH
BEGIN:VEVENT
DTSTAMP:20260424T201240Z
UID:373dba39-c070-46da-a184-d853ae8c71c9
DTSTART;VALUE=DATE:20170617
DTEND;VALUE=DATE:20170617
DESCRIPTION:Hornet`s Nest BMX
LOCATION:6301 Beatties Ford Rd  Charlotte NC 28216 USA
SUMMARY:Race For Life Double Double
URL:/site/bmx_races/344561
END:VEVENT
END:VCALENDAR
