BEGIN:VCALENDAR
VERSION:2.0
PRODID:icalendar-ruby
CALSCALE:GREGORIAN
METHOD:PUBLISH
BEGIN:VEVENT
DTSTAMP:20260425T133433Z
UID:be0e7233-fcae-45d6-80b8-29b0ea98eedc
DTSTART;VALUE=DATE:20170409
DTEND;VALUE=DATE:20170409
DESCRIPTION:Cowtown BMX
LOCATION:447 Haltom Rd  Ft. Worth TX 76117 USA
SUMMARY:Standard Single Single
URL:/site/bmx_races/344445
END:VEVENT
END:VCALENDAR
