BEGIN:VCALENDAR
VERSION:2.0
PRODID:icalendar-ruby
CALSCALE:GREGORIAN
METHOD:PUBLISH
BEGIN:VEVENT
DTSTAMP:20260425T010708Z
UID:6edb19d8-7afd-4d77-86c3-85e110d9b35f
DTSTART;VALUE=DATE:20171028
DTEND;VALUE=DATE:20171028
DESCRIPTION:Rum River BMX
LOCATION:Isanti Parkway Northwest  Isanti MN 55040 USA
SUMMARY:Warnicke Double Double
URL:/site/bmx_races/344248
END:VEVENT
END:VCALENDAR
