BEGIN:VCALENDAR
VERSION:2.0
PRODID:icalendar-ruby
CALSCALE:GREGORIAN
METHOD:PUBLISH
BEGIN:VEVENT
DTSTAMP:20260424T233842Z
UID:25c0bb9f-a05a-45f3-a1f3-e42e3b40e587
DTSTART;VALUE=DATE:20170708
DTEND;VALUE=DATE:20170708
DESCRIPTION:Trumbull BMX
LOCATION:370 Indian Ledge Park Dr  Trumbull CT 06611 USA
SUMMARY:Standard Single Single
URL:/site/bmx_races/344037
END:VEVENT
END:VCALENDAR
