BEGIN:VCALENDAR
VERSION:2.0
PRODID:icalendar-ruby
CALSCALE:GREGORIAN
METHOD:PUBLISH
BEGIN:VEVENT
DTSTAMP:20260424T160822Z
UID:4400ebe2-23fb-4b44-b852-333287652bac
DTSTART;VALUE=DATE:20171209
DTEND;VALUE=DATE:20171209
DESCRIPTION:Chula Vista BMX
LOCATION:2800 Olympic Parkway  Chula Vista CA 91915 USA
SUMMARY:Standard Single Single
URL:/site/bmx_races/343451
END:VEVENT
END:VCALENDAR
