BEGIN:VCALENDAR
VERSION:2.0
PRODID:icalendar-ruby
CALSCALE:GREGORIAN
METHOD:PUBLISH
BEGIN:VEVENT
DTSTAMP:20260425T010653Z
UID:d36fb1c5-e5f3-499e-8edf-544bb5b180dd
DTSTART;VALUE=DATE:20170506
DTEND;VALUE=DATE:20170506
DESCRIPTION:Circle City BMX
LOCATION:Westgate Park    100 Recreation Rd Dothan AL 36305 USA
SUMMARY:Earned Double
URL:/site/bmx_races/343276
END:VEVENT
END:VCALENDAR
