BEGIN:VCALENDAR
VERSION:2.0
PRODID:icalendar-ruby
CALSCALE:GREGORIAN
METHOD:PUBLISH
BEGIN:VEVENT
DTSTAMP:20260424T190318Z
UID:a572ae58-b35a-4985-84ee-de8f898a34bd
DTSTART;VALUE=DATE:20170901
DTEND;VALUE=DATE:20170901
DESCRIPTION:Nepean BMX
LOCATION:93 Houlahan St  Ottawa ON K2J3Y7 CAN
SUMMARY:Pre Race Double Double
URL:/site/bmx_races/343118
END:VEVENT
END:VCALENDAR
