BEGIN:VCALENDAR
VERSION:2.0
PRODID:icalendar-ruby
CALSCALE:GREGORIAN
METHOD:PUBLISH
BEGIN:VEVENT
DTSTAMP:20260424T172153Z
UID:50ea2b35-b0bf-41b3-9fa1-029e4130aa7f
DTSTART;VALUE=DATE:20170903
DTEND;VALUE=DATE:20170903
DESCRIPTION:Columbia Basin BMX
LOCATION:2002 Snyder St  Richland WA 99354 USA
SUMMARY:Final Triple
URL:/site/bmx_races/343113
END:VEVENT
END:VCALENDAR
