BEGIN:VCALENDAR
VERSION:2.0
PRODID:icalendar-ruby
CALSCALE:GREGORIAN
METHOD:PUBLISH
BEGIN:VEVENT
DTSTAMP:20260424T090134Z
UID:a6908442-39fb-4391-a457-9cde5a3fb56f
DTSTART;VALUE=DATE:20170917
DTEND;VALUE=DATE:20170917
DESCRIPTION:Rockford BMX
LOCATION:4950 Safford Rd  Rockford IL 61101 USA
SUMMARY:Final Triple
URL:/site/bmx_races/342959
END:VEVENT
END:VCALENDAR
