BEGIN:VCALENDAR
VERSION:2.0
PRODID:icalendar-ruby
CALSCALE:GREGORIAN
METHOD:PUBLISH
BEGIN:VEVENT
DTSTAMP:20260424T172254Z
UID:f5390edb-52a7-4f13-b136-f0c6af256061
DTSTART;VALUE=DATE:20170930
DTEND;VALUE=DATE:20170930
DESCRIPTION:Buffalo Creek BMX
LOCATION:1017 9th Street  Glencoe MN 55336 USA
SUMMARY:Standard Single Single
URL:/site/bmx_races/342918
END:VEVENT
END:VCALENDAR
