BEGIN:VCALENDAR
VERSION:2.0
PRODID:icalendar-ruby
CALSCALE:GREGORIAN
METHOD:PUBLISH
BEGIN:VEVENT
DTSTAMP:20260424T082725Z
UID:0069bb86-b47e-45f7-a445-aa0aa3798491
DTSTART;VALUE=DATE:20170225
DTEND;VALUE=DATE:20170225
DESCRIPTION:Sea City BMX
LOCATION:  Corpus Christi TX 78418 USA
SUMMARY:Qualifier Triple
URL:/site/bmx_races/342820
END:VEVENT
END:VCALENDAR
