BEGIN:VCALENDAR
VERSION:2.0
PRODID:icalendar-ruby
CALSCALE:GREGORIAN
METHOD:PUBLISH
BEGIN:VEVENT
DTSTAMP:20260424T091950Z
UID:be7eac6c-c449-44e8-9662-c24ce80fc849
DTSTART;VALUE=DATE:20170816
DTEND;VALUE=DATE:20170816
DESCRIPTION:Yucca Valley BMX
LOCATION:6989 Sage Ave  Yucca Valley CA 92234 USA
SUMMARY:Standard Single Single
URL:/site/bmx_races/341931
END:VEVENT
END:VCALENDAR
