BEGIN:VCALENDAR
VERSION:2.0
PRODID:icalendar-ruby
CALSCALE:GREGORIAN
METHOD:PUBLISH
BEGIN:VEVENT
DTSTAMP:20260425T103358Z
UID:87d4dfe0-939f-44a4-beb5-015be731eef5
DTSTART;VALUE=DATE:20170226
DTEND;VALUE=DATE:20170226
DESCRIPTION:Red Hills Indoor BMX
LOCATION:Blackhawk Arena Grounds  Salina UT 84654 USA
SUMMARY:Standard Single Single
URL:/site/bmx_races/340549
END:VEVENT
END:VCALENDAR
