BEGIN:VCALENDAR
VERSION:2.0
PRODID:icalendar-ruby
CALSCALE:GREGORIAN
METHOD:PUBLISH
BEGIN:VEVENT
DTSTAMP:20260425T221429Z
UID:4e7e2bcd-381d-41fe-9543-66629e169f31
DTSTART;VALUE=DATE:20170310
DTEND;VALUE=DATE:20170310
DESCRIPTION:Chandler BMX
LOCATION:298 S Mc Queen Rd  Chandler AZ 85225 USA
SUMMARY:Standard Single Single
URL:/site/bmx_races/339996
END:VEVENT
END:VCALENDAR
