BEGIN:VCALENDAR
VERSION:2.0
PRODID:icalendar-ruby
CALSCALE:GREGORIAN
METHOD:PUBLISH
BEGIN:VEVENT
DTSTAMP:20260424T125337Z
UID:3abf5459-7a8b-478c-abb5-c08b3737853f
DTSTART;VALUE=DATE:20170417
DTEND;VALUE=DATE:20170417
DESCRIPTION:Chandler BMX
LOCATION:298 S Mc Queen Rd  Chandler AZ 85225 USA
SUMMARY:Standard Single Single
URL:/site/bmx_races/339952
END:VEVENT
END:VCALENDAR
