BEGIN:VCALENDAR
VERSION:2.0
PRODID:icalendar-ruby
CALSCALE:GREGORIAN
METHOD:PUBLISH
BEGIN:VEVENT
DTSTAMP:20260425T221427Z
UID:c0bedeb0-090e-4f64-8f54-ef1cdeee74d4
DTSTART;VALUE=DATE:20170327
DTEND;VALUE=DATE:20170327
DESCRIPTION:Chandler BMX
LOCATION:298 S Mc Queen Rd  Chandler AZ 85225 USA
SUMMARY:Standard Single Single
URL:/site/bmx_races/339949
END:VEVENT
END:VCALENDAR
