BEGIN:VCALENDAR
VERSION:2.0
PRODID:icalendar-ruby
CALSCALE:GREGORIAN
METHOD:PUBLISH
BEGIN:VEVENT
DTSTAMP:20260425T003839Z
UID:7165919e-254c-49dd-96f0-4a4801f957dd
DTSTART;VALUE=DATE:20170610
DTEND;VALUE=DATE:20170610
DESCRIPTION:Aberdeen Hub Area BMX
LOCATION:1111 1st Ave Se  Aberdeen SD 57401 USA
SUMMARY:Race For Life Double Double
URL:/site/bmx_races/339934
END:VEVENT
END:VCALENDAR
