BEGIN:VCALENDAR
VERSION:2.0
PRODID:icalendar-ruby
CALSCALE:GREGORIAN
METHOD:PUBLISH
BEGIN:VEVENT
DTSTAMP:20260424T131323Z
UID:71d03268-67e0-4a33-a16f-84b1ad366f9d
DTSTART;VALUE=DATE:20160101
DTEND;VALUE=DATE:20160101
DESCRIPTION:Peninsula Indoor BMX
LOCATION:5867 Dogwood Road Se  Port Orchard WA 98367 USA
SUMMARY:Standard Single Single
URL:/site/bmx_races/339553
END:VEVENT
END:VCALENDAR
