BEGIN:VCALENDAR
VERSION:2.0
PRODID:icalendar-ruby
CALSCALE:GREGORIAN
METHOD:PUBLISH
BEGIN:VEVENT
DTSTAMP:20260425T115227Z
UID:e4dff51e-2b0f-4f1e-9ac8-6048081b3236
DTSTART;VALUE=DATE:20161105
DTEND;VALUE=DATE:20161105
DESCRIPTION:Triple Creek BMX
LOCATION:12705 Balm Boyette Rd  Riverview FL 33579 USA
SUMMARY:Standard Single Single
URL:/site/bmx_races/339290
END:VEVENT
END:VCALENDAR
