BEGIN:VCALENDAR
VERSION:2.0
PRODID:icalendar-ruby
CALSCALE:GREGORIAN
METHOD:PUBLISH
BEGIN:VEVENT
DTSTAMP:20260424T190024Z
UID:a423984b-0578-4b46-942d-4bf8788e0602
DTSTART;VALUE=DATE:20170604
DTEND;VALUE=DATE:20170604
DESCRIPTION:Yucaipa BMX
LOCATION:32750 Thunderbird Way  Yucaipa CA 92399 USA
SUMMARY:Race For Life Double Double
URL:/site/bmx_races/339263
END:VEVENT
END:VCALENDAR
