BEGIN:VCALENDAR
VERSION:2.0
PRODID:icalendar-ruby
CALSCALE:GREGORIAN
METHOD:PUBLISH
BEGIN:VEVENT
DTSTAMP:20260424T091844Z
UID:a369ccc8-24d1-4ba7-b742-b5cfdb4f463c
DTSTART;VALUE=DATE:20171117
DTEND;VALUE=DATE:20171117
DESCRIPTION:Sand Springs BMX
LOCATION:2600 S River City Park Rd  Sand Springs OK 74063 USA
SUMMARY:Standard Single Single
URL:/site/bmx_races/338983
END:VEVENT
END:VCALENDAR
