BEGIN:VCALENDAR
VERSION:2.0
PRODID:icalendar-ruby
CALSCALE:GREGORIAN
METHOD:PUBLISH
BEGIN:VEVENT
DTSTAMP:20260424T154550Z
UID:e63fbb05-a459-4348-af72-1d3176795bb7
DTSTART;VALUE=DATE:20171103
DTEND;VALUE=DATE:20171103
DESCRIPTION:Sand Springs BMX
LOCATION:2600 S River City Park Rd  Sand Springs OK 74063 USA
SUMMARY:Standard Single Single
URL:/site/bmx_races/338979
END:VEVENT
END:VCALENDAR
