BEGIN:VCALENDAR
VERSION:2.0
PRODID:icalendar-ruby
CALSCALE:GREGORIAN
METHOD:PUBLISH
BEGIN:VEVENT
DTSTAMP:20260425T035242Z
UID:f51bf0e1-2df6-46c7-a232-b6a8a0f166ca
DTSTART;VALUE=DATE:20170414
DTEND;VALUE=DATE:20170414
DESCRIPTION:Sand Springs BMX
LOCATION:2600 S River City Park Rd  Sand Springs OK 74063 USA
SUMMARY:Standard Single Single
URL:/site/bmx_races/338921
END:VEVENT
END:VCALENDAR
