BEGIN:VCALENDAR
VERSION:2.0
PRODID:icalendar-ruby
CALSCALE:GREGORIAN
METHOD:PUBLISH
BEGIN:VEVENT
DTSTAMP:20260425T202146Z
UID:1df1496f-ec67-4352-b312-12cc924eb7c1
DTSTART;VALUE=DATE:20170319
DTEND;VALUE=DATE:20170319
DESCRIPTION:Sand Springs BMX
LOCATION:2600 S River City Park Rd  Sand Springs OK 74063 USA
SUMMARY:Standard Single Single
URL:/site/bmx_races/338915
END:VEVENT
END:VCALENDAR
