BEGIN:VCALENDAR
VERSION:2.0
PRODID:icalendar-ruby
CALSCALE:GREGORIAN
METHOD:PUBLISH
BEGIN:VEVENT
DTSTAMP:20260425T011516Z
UID:8e9d31de-5215-409c-967a-de8e5830a2b9
DTSTART;VALUE=DATE:20170609
DTEND;VALUE=DATE:20170609
DESCRIPTION:Yukon BMX
LOCATION:Taylor Park Sports Complex   410 N 11th St Yukon OK 73064 USA
SUMMARY:Standard Single Single
URL:/site/bmx_races/338735
END:VEVENT
END:VCALENDAR
