BEGIN:VCALENDAR
VERSION:2.0
PRODID:icalendar-ruby
CALSCALE:GREGORIAN
METHOD:PUBLISH
BEGIN:VEVENT
DTSTAMP:20260424T150641Z
UID:9e614a7c-bf68-457e-b083-cce4b6747ec0
DTSTART;VALUE=DATE:20170506
DTEND;VALUE=DATE:20170506
DESCRIPTION:Hagerstown BMX
LOCATION:Fairground Ave & Cross St  Hagerstown MD 21740 USA
SUMMARY:Standard Double Double
URL:/site/bmx_races/338258
END:VEVENT
END:VCALENDAR
