BEGIN:VCALENDAR
VERSION:2.0
PRODID:icalendar-ruby
CALSCALE:GREGORIAN
METHOD:PUBLISH
BEGIN:VEVENT
DTSTAMP:20260426T042329Z
UID:47508604-4e2b-42af-8f55-2a045e664522
DTSTART;VALUE=DATE:20170913
DTEND;VALUE=DATE:20170913
DESCRIPTION:Hagerstown BMX
LOCATION:Fairground Ave & Cross St  Hagerstown MD 21740 USA
SUMMARY:Standard Single Single
URL:/site/bmx_races/338223
END:VEVENT
END:VCALENDAR
