BEGIN:VCALENDAR
VERSION:2.0
PRODID:icalendar-ruby
CALSCALE:GREGORIAN
METHOD:PUBLISH
BEGIN:VEVENT
DTSTAMP:20260424T202324Z
UID:bcba1024-dcd3-46ca-84b0-7db0532029f4
DTSTART;VALUE=DATE:20170505
DTEND;VALUE=DATE:20170505
DESCRIPTION:Duke City BMX
LOCATION:1011 Buena Vista Dr Se  Albuquerque NM 87106 USA
SUMMARY:Standard Single Single
URL:/site/bmx_races/337798
END:VEVENT
END:VCALENDAR
