BEGIN:VCALENDAR
VERSION:2.0
PRODID:icalendar-ruby
CALSCALE:GREGORIAN
METHOD:PUBLISH
BEGIN:VEVENT
DTSTAMP:20260424T194733Z
UID:01cff903-2cee-4a0f-adc7-ee5748653685
DTSTART;VALUE=DATE:20170622
DTEND;VALUE=DATE:20170622
DESCRIPTION:Seatac BMX
LOCATION:1855 S 136th St  Sea Tac WA 98168 USA
SUMMARY:Olympic Single
URL:/site/bmx_races/337723
END:VEVENT
END:VCALENDAR
