BEGIN:VCALENDAR
VERSION:2.0
PRODID:icalendar-ruby
CALSCALE:GREGORIAN
METHOD:PUBLISH
BEGIN:VEVENT
DTSTAMP:20260425T125409Z
UID:5eefb096-5fbe-4c2c-b95e-4014ac45e1a0
DTSTART;VALUE=DATE:20170625
DTEND;VALUE=DATE:20170625
DESCRIPTION:Springfield BMX Raceway
LOCATION:4115 Sandhill Road  Springfield IL 62702 USA
SUMMARY:Race For Life Single
URL:/site/bmx_races/337624
END:VEVENT
END:VCALENDAR
