BEGIN:VCALENDAR
VERSION:2.0
PRODID:icalendar-ruby
CALSCALE:GREGORIAN
METHOD:PUBLISH
BEGIN:VEVENT
DTSTAMP:20260424T131206Z
UID:95b59e6b-2fe2-4505-85ca-7839569d7149
DTSTART;VALUE=DATE:20170909
DTEND;VALUE=DATE:20170909
DESCRIPTION:Columbus BMX
LOCATION:876 Spears St.  Columbus IN 47201 USA
SUMMARY:Standard Single Single
URL:/site/bmx_races/337323
END:VEVENT
END:VCALENDAR
