BEGIN:VCALENDAR
VERSION:2.0
PRODID:icalendar-ruby
CALSCALE:GREGORIAN
METHOD:PUBLISH
BEGIN:VEVENT
DTSTAMP:20260424T143738Z
UID:d0125566-af3a-4e9c-a52c-ff6e4c41daf1
DTSTART;VALUE=DATE:20170819
DTEND;VALUE=DATE:20170819
DESCRIPTION:Columbus BMX
LOCATION:876 Spears St.  Columbus IN 47201 USA
SUMMARY:Standard Single Single
URL:/site/bmx_races/337318
END:VEVENT
END:VCALENDAR
