BEGIN:VCALENDAR
VERSION:2.0
PRODID:icalendar-ruby
CALSCALE:GREGORIAN
METHOD:PUBLISH
BEGIN:VEVENT
DTSTAMP:20260424T143739Z
UID:21947ca5-6b34-484e-944d-dc4da6fc5015
DTSTART;VALUE=DATE:20161030
DTEND;VALUE=DATE:20161030
DESCRIPTION:Cargill Park BMX
LOCATION:2800 Cargill Drive  Shreveport LA 71108 USA
SUMMARY:Standard Single Single
URL:/site/bmx_races/336900
END:VEVENT
END:VCALENDAR
