BEGIN:VCALENDAR
VERSION:2.0
PRODID:icalendar-ruby
CALSCALE:GREGORIAN
METHOD:PUBLISH
BEGIN:VEVENT
DTSTAMP:20260426T015701Z
UID:0448596e-43da-4654-acc4-66a62d8072c9
DTSTART;VALUE=DATE:20170520
DTEND;VALUE=DATE:20170520
DESCRIPTION:Gretna BMX Raceway
LOCATION:800 Gretna Blvd  Gretna LA 70053 USA
SUMMARY:Standard Single Single
URL:/site/bmx_races/335486
END:VEVENT
END:VCALENDAR
