BEGIN:VCALENDAR
VERSION:2.0
PRODID:icalendar-ruby
CALSCALE:GREGORIAN
METHOD:PUBLISH
BEGIN:VEVENT
DTSTAMP:20260424T230126Z
UID:75ba458b-917f-4656-b23e-72f3ff60f4af
DTSTART;VALUE=DATE:20170207
DTEND;VALUE=DATE:20170207
DESCRIPTION:Imperial Valley BMX
LOCATION:1750 Drew Rd  El Centro CA 92243 USA
SUMMARY:Standard Single Single
URL:/site/bmx_races/335253
END:VEVENT
END:VCALENDAR
