BEGIN:VCALENDAR
VERSION:2.0
PRODID:icalendar-ruby
CALSCALE:GREGORIAN
METHOD:PUBLISH
BEGIN:VEVENT
DTSTAMP:20260425T024424Z
UID:0f03ee33-8a80-4866-a049-c22af1706018
DTSTART;VALUE=DATE:20161202
DTEND;VALUE=DATE:20161202
DESCRIPTION:Tampa BMX Raceway\, Inc.
LOCATION:17302 Dale Mabry Hwy North  Lutz FL 33548 USA
SUMMARY:Local Race Single
URL:/site/bmx_races/333903
END:VEVENT
END:VCALENDAR
