BEGIN:VCALENDAR
VERSION:2.0
PRODID:icalendar-ruby
CALSCALE:GREGORIAN
METHOD:PUBLISH
BEGIN:VEVENT
DTSTAMP:20260425T021525Z
UID:27e28dc5-3d37-4518-948e-3c6c7e57a326
DTSTART;VALUE=DATE:20170916
DTEND;VALUE=DATE:20170916
DESCRIPTION:Rock City BMX
LOCATION:3300 10 Mile Road  Rockford MI 49341 USA
SUMMARY:Standard Single Single
URL:/site/bmx_races/333434
END:VEVENT
END:VCALENDAR
